BEGIN:VCALENDAR
VERSION:2.0
PRODID:-//ChamberMaster//Event Calendar 2.0//EN
METHOD:PUBLISH
X-PUBLISHED-TTL:P3D
REFRESH-INTERVAL:P3D
CALSCALE:GREGORIAN
BEGIN:VEVENT
DTSTART:20220902T230000Z
DTEND:20220903T010000Z
X-MICROSOFT-CDO-ALLDAYEVENT:FALSE
SUMMARY:Central High Football Game - COMMUNITY NIGHT
DESCRIPTION:It's EXTREME CENTRAL night and CHS will be honoring small businesses\, first responders and the COMMUNITY!  Join in the FUN!
X-ALT-DESC;FMTTYPE=text/html:It&#39\;s EXTREME CENTRAL night and CHS will be honoring small businesses\, first responders and the COMMUNITY!&nbsp\; Join in the FUN!&nbsp\;
LOCATION:Wildcat Stadium
UID:e.1367.3077
SEQUENCE:3
DTSTAMP:20260422T223933Z
URL:https://business.cityofcentralchamber.com/events/details/central-high-football-game-community-night-3077
END:VEVENT

END:VCALENDAR
