BEGIN:VCALENDAR
VERSION:2.0
PRODID:-//ChamberMaster//Event Calendar 2.0//EN
METHOD:PUBLISH
X-PUBLISHED-TTL:P3D
REFRESH-INTERVAL:P3D
CALSCALE:GREGORIAN
BEGIN:VEVENT
DTSTART:20230608T193000Z
DTEND:20230608T200000Z
X-MICROSOFT-CDO-ALLDAYEVENT:FALSE
SUMMARY:Central Guest House - Ribbon Cutting
DESCRIPTION:Grand Opening for Central Guest House Healthcare & Rehabilitation Center!\n\n\n\nHelp us welcome a skilled nursing facility to Central. This luxurious 170 private bedroom and bathroom facility will host a number of amenities giving the facility an all-inclusive feel. This state-of-the-art facility will have a fitness/wellness rehabilitation gym for those needing PT\, OT and ST services.\n\n\n\nOur Memory Care Neighborhood is designed to keep those with elopement risks safe from wandering. Beautiful dining rooms to make for a restaurant-style dining experience\, a chapel for religious services\, a media room\, and a beauty parlor all under one roof.
X-ALT-DESC;FMTTYPE=text/html:<div class="xdj266r x11i5rnm xat24cr x1mh8g0r x1vvkbs x126k92a" style="margin: 0px\; white-space: pre-wrap\; overflow-wrap: break-word\; font-family: &quot\;Segoe UI Historic&quot\;\, &quot\;Segoe UI&quot\;\, Helvetica\, Arial\, sans-serif\; color: rgb(5\, 5\, 5)\; font-size: 15px\;">\n<div dir="auto" style="font-family: inherit\;">Grand Opening for Central Guest House Healthcare &amp\; Rehabilitation Center!</div>\n</div>\n\n<div class="x11i5rnm xat24cr x1mh8g0r x1vvkbs xtlvy1s x126k92a" style="margin: 0.5em 0px 0px\; white-space: pre-wrap\; overflow-wrap: break-word\; font-family: &quot\;Segoe UI Historic&quot\;\, &quot\;Segoe UI&quot\;\, Helvetica\, Arial\, sans-serif\; color: rgb(5\, 5\, 5)\; font-size: 15px\;">\n<div dir="auto" style="font-family: inherit\;">Help us welcome a skilled nursing facility to Central. This luxurious 170 private bedroom and bathroom facility will host a number of amenities giving the facility an all-inclusive feel. This state-of-the-art facility will have a fitness/wellness rehabilitation gym for those needing PT\, OT and ST services.</div>\n</div>\n\n<div class="x11i5rnm xat24cr x1mh8g0r x1vvkbs xtlvy1s x126k92a" style="margin: 0.5em 0px 0px\; white-space: pre-wrap\; overflow-wrap: break-word\; font-family: &quot\;Segoe UI Historic&quot\;\, &quot\;Segoe UI&quot\;\, Helvetica\, Arial\, sans-serif\; color: rgb(5\, 5\, 5)\; font-size: 15px\;">\n<div dir="auto" style="font-family: inherit\;">Our Memory Care Neighborhood is designed to keep those with elopement risks safe from wandering. Beautiful dining rooms to make for a restaurant-style dining experience\, a chapel for religious services\, a media room\, and a beauty parlor all under one roof.</div>\n</div>\n
LOCATION:10748 Joor Road
UID:e.1367.3124
SEQUENCE:3
DTSTAMP:20260422T074805Z
URL:https://business.cityofcentralchamber.com/events/details/central-guest-house-ribbon-cutting-3124
END:VEVENT

END:VCALENDAR
