BEGIN:VCALENDAR
VERSION:2.0
PRODID:-//ChamberMaster//Event Calendar 2.0//EN
METHOD:PUBLISH
X-PUBLISHED-TTL:P3D
REFRESH-INTERVAL:P3D
CALSCALE:GREGORIAN
BEGIN:VEVENT
DTSTART:20231021T150000Z
DTEND:20231022T020000Z
X-MICROSOFT-CDO-ALLDAYEVENT:FALSE
SUMMARY:Central Fall Fest 2023
DESCRIPTION:The Shop the Square portion of the event will happen from 10 am-2 pm. \n\nSet up is 8am-9am. Break down begins at 2 pm and must have vacated their spots by 2:30pm.  \n\n \n\nShop the Square Vendor spots are first come first serve.  \n\n	Fill Out the Vendor Request Form\n	Selected vendors will receive an email response with a link to register as well as the required paperwork. \n\nOnce you are selected to become a vendor\, further instructions on how to get your paperwork notarized will be given.
X-ALT-DESC;FMTTYPE=text/html:<strong><u><span style="font-size:14.0pt\;">The Shop the Square portion of the event will happen from 10 am-2 pm.&nbsp\;</span></u></strong><br />\n<strong><u><span style="font-size:14.0pt\;">Set up is 8am-9am. Break down begins at 2 pm and must have vacated their spots by 2:30pm. &nbsp\;</span></u></strong><br />\n&nbsp\;<br />\n<strong><span style="font-size:14.0pt\;">Shop the Square Vendor spots are first come first serve. &nbsp\;</span></strong>\n<ul>\n	<li style="margin-left:0in\;"><strong><span style="font-size:14.0pt\;"><a href="https://docs.google.com/forms/d/e/1FAIpQLSea0MmhS-Kqc3KaGEn5QZ0JzwSIq1QrT8PF_RHYapZJxzPj4Q/viewform?usp=sf_link">Fill Out the Vendor Request Form</a></span></strong></li>\n	<li style="margin-left:0in\;"><strong><span style="font-size:14.0pt\;">Selected vendors will receive an email response with a link to register as well as the required paperwork. </span></strong></li>\n</ul>\n<span style="font-size:14.0pt\;">Once you are selected to become a vendor\, further instructions on how to get your paperwork notarized will be given.</span><br />\n&nbsp\;
LOCATION:The Settlement at Shoe Creek 10149 Sullivan Road\, Central City\, LA\, United States\, Louisiana
UID:e.1367.3118
SEQUENCE:3
DTSTAMP:20260422T015000Z
URL:https://business.cityofcentralchamber.com/events/details/central-fall-fest-2023-3118
END:VEVENT

END:VCALENDAR
