BEGIN:VCALENDAR
VERSION:2.0
PRODID:-//ChamberMaster//Event Calendar 2.0//EN
METHOD:PUBLISH
X-PUBLISHED-TTL:P3D
REFRESH-INTERVAL:P3D
CALSCALE:GREGORIAN
BEGIN:VEVENT
DTSTART:20201107T200000Z
DTEND:20201107T220000Z
X-MICROSOFT-CDO-ALLDAYEVENT:FALSE
SUMMARY:Central Early Learning Center 35 Year Anniversary!
DESCRIPTION:We are celebrating 35 years of service to the Central Community! \n\n \n\nCentral Early Learning Center has been owned and operated by Bob Lansing for 25 years and owned by his mother\, Joan Lansing\, for ten years prior. \n\n \n\nWe will have a celebration under our outdoor pavilion on Saturday\, November 7th from 2:00 pm to 4:00 pm. Past and present employees and families are welcome to bring favorite photos and share cherished memories. \n\n \n\nLight hor d'oeuvres will be served for guests.\n\nMasks are required. \n\n(225) 261-1743\n\n9739 Joor Rd
X-ALT-DESC;FMTTYPE=text/html:<h1 style="text-align: center\;">We are celebrating 35 years of service to the Central Community!&nbsp\;</h1>\n\n<div style="text-align: center\;">&nbsp\;</div>\n\n<h2 style="text-align: center\;">Central Early Learning Center has been owned and operated by Bob Lansing for 25 years and owned by his mother\, Joan Lansing\, for ten years prior.&nbsp\;</h2>\n\n<div style="text-align: center\;">&nbsp\;</div>\n\n<h2 style="text-align: center\;">We will have a celebration under our outdoor pavilion on Saturday\, November 7th from 2:00 pm to 4:00 pm. Past and present employees and families are welcome to bring favorite photos and share cherished memories.&nbsp\;</h2>\n\n<div>&nbsp\;</div>\n\n<h3>Light hor d&#39\;oeuvres will be served for guests.<br />\nMasks are required.&nbsp\;</h3>\n\n<h3 style="text-align: right\;">(225) 261-1743</h3>\n\n<h3 style="text-align: right\;">9739 Joor Rd</h3>\n
LOCATION:9739 Joor Rd
UID:e.1367.2967
SEQUENCE:3
DTSTAMP:20260424T091710Z
URL:https://business.cityofcentralchamber.com/events/details/central-early-learning-center-35-year-anniversary-2967
END:VEVENT

END:VCALENDAR
