BEGIN:VCALENDAR
VERSION:2.0
PRODID:-//ChamberMaster//Event Calendar 2.0//EN
METHOD:PUBLISH
X-PUBLISHED-TTL:P3D
REFRESH-INTERVAL:P3D
CALSCALE:GREGORIAN
BEGIN:VEVENT
DTSTART;VALUE=DATE:20220814
DTEND;VALUE=DATE:20220815
TRANSP:TRANSPARENT
X-MICROSOFT-CDO-ALLDAYEVENT:TRUE
SUMMARY:Central Community In Action Presents: Connect - Inspire - Encourage
DESCRIPTION:Central Community in Action Invites All High School Parents and Caregivers. \n\n\n\nParenting is Hard. Raising Kids is Hard.  Come Experience Tips & Tricks to Help Manage These Years. This event is designed to CONNECT Parents\,  INSPIRE Change Within our Homes & ENCOURAGE Us All to Work Towards The Change we want In Our Community.\n\n\n\nGuest Speakers: Jay and Stacey Coleman of Journey Church\, Wyatt Graves of Kaizen\, and Superintendent  Dr. Jason Fountain of CCSS.
X-ALT-DESC;FMTTYPE=text/html:<p class="_04xlpA direction-ltr align-center para-style-title" line-height:="" style="color: rgb(114\, 33\, 128)\; font-family: " yaealzqmvs4=""><span class="JsGRdQ" style="color: rgb(33\, 29\, 24)\; font-weight: 700\;">Central Community in Action Invites All&nbsp\;High School Parents and Caregivers.&nbsp\;</span><br />\n<br />\n<span class="JsGRdQ" style="color: rgb(33\, 29\, 24)\; font-weight: 700\;">Parenting is Hard.<span class="JsGRdQ white-space-prewrap" style="color: rgb(33\, 29\, 24)\; font-weight: 700\;"> </span>Raising Kids is Hard.&nbsp\; Come Experience Tips &amp\; Tricks to Help Manage These Years. This event is designed to&nbsp\;</span><strong><span class="JsGRdQ" style="font-weight: 700\;">CONNECT </span><span class="JsGRdQ">Parents\,</span><span class="JsGRdQ white-space-prewrap">&nbsp\;&nbsp\;</span><span class="JsGRdQ" style="font-weight: 700\;">INSPIRE </span><span class="JsGRdQ">Change Within our Homes &amp\;</span><span class="JsGRdQ white-space-prewrap"> </span><span class="JsGRdQ" style="font-weight: 700\;">ENCOURAGE&nbsp\;</span><span class="JsGRdQ">Us All to Work Towards The Change we want&nbsp\;In Our Community.<br />\n<br />\nGuest Speakers: Jay and Stacey Coleman of Journey Church\, Wyatt Graves of Kaizen\, and Superintendent&nbsp\; Dr. Jason Fountain of CCSS.&nbsp\;</span></strong></p>\n
LOCATION:Journey Church Central Campus 17407 Greenwell Springs Road
UID:e.1367.3075
SEQUENCE:3
DTSTAMP:20260423T015327Z
URL:https://business.cityofcentralchamber.com/events/details/central-community-in-action-presents-connect-inspire-encourage-3075
END:VEVENT

END:VCALENDAR
