BEGIN:VCALENDAR
VERSION:2.0
PRODID:-//ChamberMaster//Event Calendar 2.0//EN
METHOD:PUBLISH
X-PUBLISHED-TTL:P3D
REFRESH-INTERVAL:P3D
CALSCALE:GREGORIAN
BEGIN:VEVENT
DTSTART:20231028T200000Z
DTEND:20231028T203000Z
X-MICROSOFT-CDO-ALLDAYEVENT:FALSE
SUMMARY:Central City Steak and Seafood Ribbon Cutting
DESCRIPTION:Join us as we celebrate Central City Steak and Seafood Ribbon Cutting and Grand Reopening\n\n\n\nThey will be having a Car Show\, Trunk or Treat and Local Vendors! \n\n\n\nIt's going to be a great event!
X-ALT-DESC;FMTTYPE=text/html:Join us as we celebrate Central City Steak and Seafood Ribbon Cutting and Grand Reopening<br />\n<br />\nThey will be having a Car Show\, Trunk or Treat and Local Vendors!&nbsp\;<br />\n<br />\nIt&#39\;s going to be a great event!&nbsp\;
LOCATION:9550 Hooper Rd\, Baton Rouge\, LA 70818
UID:e.1367.3161
SEQUENCE:3
DTSTAMP:20260422T015114Z
URL:https://business.cityofcentralchamber.com/events/details/central-city-steak-and-seafood-ribbon-cutting-3161
END:VEVENT

END:VCALENDAR
