BEGIN:VCALENDAR
VERSION:2.0
PRODID:-//ChamberMaster//Event Calendar 2.0//EN
METHOD:PUBLISH
X-PUBLISHED-TTL:P3D
REFRESH-INTERVAL:P3D
CALSCALE:GREGORIAN
BEGIN:VEVENT
DTSTART;VALUE=DATE:20231118
DTEND;VALUE=DATE:20231119
TRANSP:TRANSPARENT
X-MICROSOFT-CDO-ALLDAYEVENT:TRUE
SUMMARY:Central Christmas Campaign - Shop Small 2023 Kick Off
DESCRIPTION:Shop Small Business\nCentral Christmas Campaign \n\n\n\nSupport local businesses\, get your Christmas shopping done AND win a shopping spree! It's a win-win-win! Ask a Central store for a punch card to participate. \n\n\n\nCentral Businesses! Get in on the fun to get your business name out into the community and give your customers a chance to WIN by registering TODAY.
X-ALT-DESC;FMTTYPE=text/html:<div><em style="color: rgb(0\, 0\, 128)\; font-size: 20px\;"><strong>Shop Small Business</strong></em></div>\n<span style="font-size:20px\;"><span style="color:#000080\;"><em><strong>Central Christmas Campaign&nbsp\;</strong></em></span></span><br />\n<br />\n<span style="font-size:16px\;">Support local businesses\, get your Christmas shopping done AND win a shopping spree! It&#39\;s a win-win-win! Ask a Central store for a punch card to participate.&nbsp\;</span><br />\n<br />\n<span style="font-size:16px\;">Central Businesses! Get in on the fun to get your business name out into the community and give your customers a chance to WIN by registering TODAY.</span>
LOCATION:
UID:e.1367.3129
SEQUENCE:3
DTSTAMP:20260422T001317Z
URL:https://business.cityofcentralchamber.com/events/details/central-christmas-campaign-shop-small-2023-kick-off-3129
END:VEVENT

END:VCALENDAR
