BEGIN:VCALENDAR
VERSION:2.0
PRODID:-//ChamberMaster//Event Calendar 2.0//EN
METHOD:PUBLISH
X-PUBLISHED-TTL:P3D
REFRESH-INTERVAL:P3D
CALSCALE:GREGORIAN
BEGIN:VEVENT
DTSTART;VALUE=DATE:20211120
DTEND;VALUE=DATE:20211121
TRANSP:TRANSPARENT
X-MICROSOFT-CDO-ALLDAYEVENT:TRUE
SUMMARY:Central Christmas Campaign - Shop Small 2021 Kick Off
DESCRIPTION:Here's Where you can Shop to Win!\n\nAvant Tous Beauty Bar & Spa | Beau Ideal\n\nBellingrath Pharmacy | Blend Boutique\n\nBody Sculpt Barre | Bombshell Boutique\n\nCaliber Flooring | Caliente Mexican Craving\n\nCarlton's | Central City Steak & Seafood\n\nCentral Cross Threads | Cheeky Monkey's\n\nChristian's Creamery | City Central Nutrition\n\nComputer Evolutions | Danielle's Haircut Garage\n\nJ Lane Boutique | Java Mama Central Square\n\nJust 4 Him Central | Me'Pa's Diner\n\nOld Path's Natural Market | Once N Again\n\nRogers Regional Eye Center | Ross Tire & Service\n\nSimply Southern Animal Hospital | Sleep City\n\nSmooch My Pooch | Sonic Drive-in (Greenwell Springs)\n\nSouthern Charm Marketplace | Southern Spa Essentials\n\nStab's Steak & Seafood | Sullivan's Ace Hardware\n\nThe Spectacle | Trey Marino's Central Florist & Gifts\n\nWingstop\n\n \n\n\nShop Small Business\n\nCentral Christmas Campaign \n\n\n\nSupport local business\, get your Christmas shopping done AND win a shopping spree! It's a win-win-win! Ask a Central store for a punch card to participate. \n\n\n\nCentral Businesses! Get in on the fun to get your business name out into the community and give your customers a chance to WIN by registering TODAY.
X-ALT-DESC;FMTTYPE=text/html:<div style="text-align: center\;"><em style="color: rgb(0\, 0\, 128)\; font-size: 20px\;"><strong>Here&#39\;s Where you can Shop to Win!</strong></em><br />\n<span style="font-size:20px\;">Avant Tous Beauty Bar &amp\; Spa | Beau Ideal<br />\nBellingrath Pharmacy | Blend Boutique<br />\nBody Sculpt Barre | Bombshell Boutique<br />\nCaliber Flooring | Caliente Mexican Craving<br />\nCarlton&#39\;s | Central City Steak &amp\; Seafood<br />\nCentral Cross Threads | Cheeky Monkey&#39\;s<br />\nChristian&#39\;s Creamery | City Central Nutrition<br />\nComputer Evolutions | Danielle&#39\;s Haircut Garage<br />\nJ Lane Boutique | Java Mama Central Square<br />\nJust 4 Him Central | Me&#39\;Pa&#39\;s Diner<br />\nOld Path&#39\;s Natural Market | Once N Again<br />\nRogers Regional Eye Center | Ross Tire &amp\; Service<br />\nSimply Southern Animal Hospital | Sleep City<br />\nSmooch My Pooch | Sonic Drive-in (Greenwell Springs)<br />\nSouthern Charm Marketplace | Southern Spa Essentials<br />\nStab&#39\;s Steak &amp\; Seafood | Sullivan&#39\;s Ace Hardware<br />\nThe Spectacle | Trey Marino&#39\;s Central Florist &amp\; Gifts<br />\nWingstop</span><br />\n&nbsp\;</div>\n<br />\n<span style="font-size:20px\;"><span style="color:#000080\;"><em><strong>Shop Small Business<br />\nCentral Christmas Campaign&nbsp\;</strong></em></span></span><br />\n<br />\n<span style="font-size:16px\;">Support local business\, get your Christmas shopping done AND win a shopping spree! It&#39\;s a win-win-win! Ask a Central store for a punch card to participate.&nbsp\;</span><br />\n<br />\n<span style="font-size:16px\;">Central Businesses! Get in on the fun to get your business name out into the community and give your customers a chance to WIN by registering TODAY.</span>
LOCATION:City of Central Retailers
UID:e.1367.2994
SEQUENCE:3
DTSTAMP:20260423T132500Z
URL:https://business.cityofcentralchamber.com/events/details/central-christmas-campaign-shop-small-2021-kick-off-2994
END:VEVENT

END:VCALENDAR
