BEGIN:VCALENDAR
VERSION:2.0
PRODID:-//ChamberMaster//Event Calendar 2.0//EN
METHOD:PUBLISH
X-PUBLISHED-TTL:P3D
REFRESH-INTERVAL:P3D
CALSCALE:GREGORIAN
BEGIN:VEVENT
DTSTART;VALUE=DATE:20211223
DTEND;VALUE=DATE:20211224
TRANSP:TRANSPARENT
X-MICROSOFT-CDO-ALLDAYEVENT:TRUE
SUMMARY:Central Christmas Campaign - Shop Small 2021 Ends
DESCRIPTION:Shop Small Business\n\nCentral Christmas Campaign \n\n\n\nSupport local business\, get your Christmas shopping done AND win a shopping spree! It's a win-win-win! Ask a Central store for a punch card to participate. \n\n\n\nYou could win a $1\,500\, $750 or $500 shopping spree by shopping locally!\n\n\n\nWhen you stop by any of the below businesses\, pick up a punch card. Once your card is full\, leave it with the business to be entered to win the shopping spree! You can keep entering new cards if you keep shopping in Central.\n\n\n\nOf every $100 spent in Central:\n\n$2.50 (2.5%) - Supports Schools\n\n$2.00 (2%) - Supports the City\n\n$1.50 (1.5%) - Supports Infrastructure
X-ALT-DESC;FMTTYPE=text/html:<span style="font-size:20px\;"><span style="color:#000080\;"><em><strong>Shop Small Business<br />\nCentral Christmas Campaign&nbsp\;</strong></em></span></span><br />\n<br />\n<span style="font-size:16px\;">Support local business\, get your Christmas shopping done AND win a shopping spree! It&#39\;s a win-win-win! Ask a Central store for a punch card to participate.&nbsp\;</span><br />\n<br />\n<span style="font-size:16px\;">You could win a $1\,500\, $750 or $500 shopping spree by shopping locally!<br />\n<br />\nWhen you stop by any of the below businesses\, pick up a punch card. Once your card is full\, leave it with the business to be entered to win the shopping spree! You can keep entering new cards if you keep shopping in Central.<br />\n<br />\nOf every $100 spent in Central:<br />\n$2.50 (2.5%) - Supports Schools<br />\n$2.00 (2%) - Supports the City<br />\n$1.50 (1.5%) - Supports Infrastructure</span><br />\n&nbsp\;
LOCATION:
UID:e.1367.2995
SEQUENCE:3
DTSTAMP:20260423T120101Z
URL:https://business.cityofcentralchamber.com/events/details/central-christmas-campaign-shop-small-2021-ends-2995
END:VEVENT

END:VCALENDAR
