BEGIN:VCALENDAR
VERSION:2.0
PRODID:-//ChamberMaster//Event Calendar 2.0//EN
METHOD:PUBLISH
X-PUBLISHED-TTL:P3D
REFRESH-INTERVAL:P3D
CALSCALE:GREGORIAN
BEGIN:VEVENT
DTSTART:20201121T140000Z
DTEND:20201121T180000Z
X-MICROSOFT-CDO-ALLDAYEVENT:FALSE
SUMMARY:Central Christmas Campaign - Shop Small 2020 Kick Off
DESCRIPTION:Shop Small Business\n\nCentral Christmas Campaign \n\n\n\nSupport local business\, get your Christmas shopping done AND win a shopping spree! It's a win-win-win! Ask a Central store for a punch card to participate. \n\n\n\nCentral Businesses! Get in on the fun to get your business name out into the community and give your customers a chance to WIN by registering TODAY.
X-ALT-DESC;FMTTYPE=text/html:<span style="font-size:20px\;"><span style="color:#000080\;"><em><strong>Shop Small Business<br />\nCentral Christmas Campaign&nbsp\;</strong></em></span></span><br />\n<br />\n<span style="font-size:16px\;">Support local business\, get your Christmas shopping done AND win a shopping spree! It&#39\;s a win-win-win! Ask a Central store for a punch card to participate.&nbsp\;</span><br />\n<br />\n<span style="font-size:16px\;">Central Businesses! Get in on the fun to get your business name out into the community and give your customers a chance to WIN by registering TODAY.</span>
LOCATION:City of Central Retailers
UID:e.1367.2944
SEQUENCE:3
DTSTAMP:20260424T110909Z
URL:https://business.cityofcentralchamber.com/events/details/central-christmas-campaign-shop-small-2020-kick-off-2944
END:VEVENT

END:VCALENDAR
