BEGIN:VCALENDAR
VERSION:2.0
PRODID:-//ChamberMaster//Event Calendar 2.0//EN
METHOD:PUBLISH
X-PUBLISHED-TTL:P3D
REFRESH-INTERVAL:P3D
CALSCALE:GREGORIAN
BEGIN:VEVENT
DTSTART:20201224T070000Z
DTEND:20201224T230000Z
X-MICROSOFT-CDO-ALLDAYEVENT:FALSE
SUMMARY:Central Christmas Campaign - Shop Small 2020 Ends
DESCRIPTION:Shop Small Business\n\nCentral Christmas Campaign \n\n\n\nSupport local business\, get your Christmas shopping done AND win a shopping spree! It's a win-win-win! Ask a Central store for a punch card to participate. \n\n\n\nYou could win a $1\,500\, $750 or $500 shopping spree by shopping locally!\n\nWhen you stop by any of the below businesses\, pick up a punch card. Once your card is full\, leave it with the business to be entered to win the shopping spree! You can keep entering new cards if you keep shopping in Central.\n\n\n\nOf every $100 spent in Central:\n\n$2.50 (2.5%) - Supports Schools\n\n$2.00 (2%) - Supports the City\n\n$1.50 (1.5%) - Supports Infrastructure
X-ALT-DESC;FMTTYPE=text/html:<span style="font-size:20px\;"><span style="color:#000080\;"><em><strong>Shop Small Business<br />\nCentral Christmas Campaign&nbsp\;</strong></em></span></span><br />\n<br />\n<span style="font-size:16px\;">Support local business\, get your Christmas shopping done AND win a shopping spree! It&#39\;s a win-win-win! Ask a Central store for a punch card to participate.&nbsp\;</span><br />\n<br />\n<span style="font-size:16px\;">You could win a $1\,500\, $750 or $500 shopping spree by shopping locally!<br />\nWhen you stop by any of the below businesses\, pick up a punch card. Once your card is full\, leave it with the business to be entered to win the shopping spree! You can keep entering new cards if you keep shopping in Central.<br />\n<br />\nOf every $100 spent in Central:<br />\n$2.50 (2.5%) - Supports Schools<br />\n$2.00 (2%) - Supports the City<br />\n$1.50 (1.5%) - Supports Infrastructure</span><br />\n&nbsp\;
LOCATION:Avant Tous Beauty Bar | Beau Ideal Salon Bellingrath Pharmacy | Blend Boutique Body Sculpt Barre | Bombshell Boutique Caf Phoenicia of Central | Caliber Flooring Calient Mexican Craving | Carlton's Central City Antiques | Central City Steak & Seafood Central Cross Threads | Cheeky Monkey's City Central Nutrition | Computer Evolutions Danielle's Haircut Garage | David's Tiger Express Gotham Archery | J. Lane Boutique Java Mama Central | Just 4 Him Central Lancaster House | Las Palmas Mexican Me Pa's Diner | Old Path's Natural Market Once N Again | Rogers Regional Eye Center Ross Tire & Service | Simply Southern Animal Hospital Sleep City | Smooch My Pooch Southern Charm | Southern Spa Essentials Stab's Steak & Seafood | Sullivan's Ace Hardware The Looking Glass Beauty | The Spectacle Trey Marino's Florist & Gifts | Wingstop Central
UID:e.1367.2970
SEQUENCE:3
DTSTAMP:20260424T072828Z
URL:https://business.cityofcentralchamber.com/events/details/central-christmas-campaign-shop-small-2020-ends-2970
END:VEVENT

END:VCALENDAR
