BEGIN:VCALENDAR
VERSION:2.0
PRODID:-//ChamberMaster//Event Calendar 2.0//EN
METHOD:PUBLISH
X-PUBLISHED-TTL:P3D
REFRESH-INTERVAL:P3D
CALSCALE:GREGORIAN
BEGIN:VEVENT
DTSTART:20201118T180000Z
DTEND:20201118T190000Z
X-MICROSOFT-CDO-ALLDAYEVENT:FALSE
SUMMARY:Central Chamber of Commerce Board Meeting
DESCRIPTION:Central Chamber of Commerce Board of Directors Meeting
X-ALT-DESC;FMTTYPE=text/html:Central Chamber of Commerce Board of Directors Meeting
LOCATION:
UID:e.1367.2301
SEQUENCE:3
DTSTAMP:20260424T091814Z
URL:https://business.cityofcentralchamber.com/events/details/central-chamber-of-commerce-board-meeting-11-25-2020-2301
END:VEVENT

END:VCALENDAR
