BEGIN:VCALENDAR
VERSION:2.0
PRODID:-//ChamberMaster//Event Calendar 2.0//EN
METHOD:PUBLISH
X-PUBLISHED-TTL:P3D
REFRESH-INTERVAL:P3D
CALSCALE:GREGORIAN
BEGIN:VEVENT
DTSTART:20230916T230000Z
DTEND:20230917T010000Z
X-MICROSOFT-CDO-ALLDAYEVENT:FALSE
SUMMARY:Celebration of Bodi White
DESCRIPTION:Evening Attire\n\nQuestions Call L. Veck 225-993-1504
X-ALT-DESC;FMTTYPE=text/html:<span style="color: rgb(0\, 0\, 0)\; font-weight: 700\;">Evening Attire<br />\nQuestions Call L. Veck 225-993-1504</span>
LOCATION:Kristenwood Reception Hall 14025 Greenwell Springs Rd\, Greenwell Springs\, LA 70739
UID:e.1367.3138
SEQUENCE:3
DTSTAMP:20260422T031347Z
URL:https://business.cityofcentralchamber.com/events/details/celebration-of-bodi-white-3138
END:VEVENT

END:VCALENDAR
