BEGIN:VCALENDAR
VERSION:2.0
PRODID:-//ChamberMaster//Event Calendar 2.0//EN
METHOD:PUBLISH
X-PUBLISHED-TTL:P3D
REFRESH-INTERVAL:P3D
CALSCALE:GREGORIAN
BEGIN:VEVENT
DTSTART:20230417T220000Z
DTEND:20230417T223000Z
X-MICROSOFT-CDO-ALLDAYEVENT:FALSE
SUMMARY:CCSS School Board Office- Ribbon Cutting
DESCRIPTION:Come join us in the Celebration of The Central Community Schools\, School Board Office Grand Opening and Ribbon Cutting
X-ALT-DESC;FMTTYPE=text/html:Come join us in the Celebration of The Central Community Schools\, School Board Office Grand Opening and Ribbon Cutting&nbsp\;
LOCATION:11576 Sullivan Road\, Baton Rouge\, LA 70818
UID:e.1367.3120
SEQUENCE:3
DTSTAMP:20260422T104946Z
URL:https://business.cityofcentralchamber.com/events/details/ccss-school-board-office-ribbon-cutting-3120
END:VEVENT

END:VCALENDAR
