BEGIN:VCALENDAR
VERSION:2.0
PRODID:-//ChamberMaster//Event Calendar 2.0//EN
METHOD:PUBLISH
X-PUBLISHED-TTL:P3D
REFRESH-INTERVAL:P3D
CALSCALE:GREGORIAN
BEGIN:VEVENT
DTSTART:20221020T230000Z
DTEND:20221021T000000Z
X-MICROSOFT-CDO-ALLDAYEVENT:FALSE
SUMMARY:CCSS Board and Police Chief Forum
DESCRIPTION:Joins us for a forum for the Central Community School Board and Chief of Police Candidates.
X-ALT-DESC;FMTTYPE=text/html:Joins us for a forum for the Central Community School Board and Chief of Police Candidates.&nbsp\;
LOCATION:CHS Theatre
UID:e.1367.3080
SEQUENCE:3
DTSTAMP:20260422T224001Z
URL:https://business.cityofcentralchamber.com/events/details/ccss-board-and-police-chief-forum-3080
END:VEVENT

END:VCALENDAR
