BEGIN:VCALENDAR
VERSION:2.0
PRODID:-//ChamberMaster//Event Calendar 2.0//EN
METHOD:PUBLISH
X-PUBLISHED-TTL:P3D
REFRESH-INTERVAL:P3D
CALSCALE:GREGORIAN
BEGIN:VEVENT
DTSTART:20230914T160000Z
DTEND:20230914T163000Z
X-MICROSOFT-CDO-ALLDAYEVENT:FALSE
SUMMARY:Jack Hood Jewelers Ribbon Cutting
DESCRIPTION:Join Us at Jack Hood Jewelers as we Celebrate a Great Central Business.
X-ALT-DESC;FMTTYPE=text/html:Join Us at Jack Hood Jewelers as we Celebrate a Great Central Business.
LOCATION:
UID:e.1367.3139
SEQUENCE:3
DTSTAMP:20260422T031347Z
URL:https://business.cityofcentralchamber.com/events/details/cc-s-ribbon-cutting-3139
END:VEVENT

END:VCALENDAR
