BEGIN:VCALENDAR
VERSION:2.0
PRODID:-//ChamberMaster//Event Calendar 2.0//EN
METHOD:PUBLISH
X-PUBLISHED-TTL:P3D
REFRESH-INTERVAL:P3D
CALSCALE:GREGORIAN
BEGIN:VEVENT
DTSTART:20230804T170000Z
DTEND:20230804T173000Z
X-MICROSOFT-CDO-ALLDAYEVENT:FALSE
SUMMARY:CC's Ribbon Cutting
DESCRIPTION:Join us as we celebrate CC's Grand Opening in Central
X-ALT-DESC;FMTTYPE=text/html:Join us as we celebrate CC&#39\;s Grand Opening in Central&nbsp\;
LOCATION:14375 Grand Settlement Blvd Suite A\, Central\, LA 70818
UID:e.1367.3133
SEQUENCE:3
DTSTAMP:20260422T044004Z
URL:https://business.cityofcentralchamber.com/events/details/cc-s-ribbon-cutting-3133
END:VEVENT

END:VCALENDAR
