BEGIN:VCALENDAR
VERSION:2.0
PRODID:-//ChamberMaster//Event Calendar 2.0//EN
METHOD:PUBLISH
X-PUBLISHED-TTL:P3D
REFRESH-INTERVAL:P3D
CALSCALE:GREGORIAN
BEGIN:VEVENT
DTSTART:20220722T160000Z
DTEND:20220722T163000Z
X-MICROSOFT-CDO-ALLDAYEVENT:FALSE
SUMMARY:CB Mechanical Ribbon Cutting
DESCRIPTION:Come join us for a Ribbon Cutting to Celebrate Christian Brothers Mechanical\, LLC.
X-ALT-DESC;FMTTYPE=text/html:<span style="color: rgb(62\, 68\, 62)\; font-family: Lato\, Helvetica\, &quot\;sans-serif&quot\;\; font-size: 14px\;">Come join us for a Ribbon Cutting to Celebrate&nbsp\;Christian Brothers Mechanical\, LLC.&nbsp\;</span>
LOCATION:CB Mechanical 6105 Hollyfield Dr. Baton Rouge\, LA 70809
UID:e.1367.3071
SEQUENCE:3
DTSTAMP:20260423T030444Z
URL:https://business.cityofcentralchamber.com/events/details/cb-mechanical-ribbon-cutting-3071
END:VEVENT

END:VCALENDAR
