BEGIN:VCALENDAR
VERSION:2.0
PRODID:-//ChamberMaster//Event Calendar 2.0//EN
METHOD:PUBLISH
X-PUBLISHED-TTL:P3D
REFRESH-INTERVAL:P3D
CALSCALE:GREGORIAN
BEGIN:VEVENT
DTSTART:20210213T184500Z
DTEND:20210213T191500Z
X-MICROSOFT-CDO-ALLDAYEVENT:FALSE
SUMMARY:Carnival Caravan Drive-by Parade
DESCRIPTION:The parades might be cancelled this year\, but carnival season isn't. We're inviting our families\, the Central community and our health partners to join us for our "Carnival Caravan"! \n\n\n\nParticipants will decorate their vehicles and ride through the parking lot and around the community for this Mardi Gras drive-by parade! \n\n\n\nThe parade will take place on Saturday\, February 13 at 1:00 p.m. Participants will line up no later than 12:45 p.m. \n\n\n\nFor questions about participating\, please email dedmonson@theclaiborne.com.
X-ALT-DESC;FMTTYPE=text/html:The parades might be cancelled this year\, but carnival season isn&rsquo\;t. We&rsquo\;re inviting our families\, the Central community and our health partners to join us for our &ldquo\;Carnival Caravan&rdquo\;!&nbsp\;<br />\n<br />\nParticipants will decorate their vehicles and ride through the parking lot and around the community for this Mardi Gras drive-by parade!&nbsp\;<br />\n<br />\nThe parade will take place on Saturday\, February 13 at 1:00 p.m. Participants will line up no later than 12:45 p.m.&nbsp\;<br />\n<br />\nFor questions about participating\, please email dedmonson@theclaiborne.com.
LOCATION:The Claiborne at Shoe Creek 9750 Couret Drive Baton Rouge\, LA 70818
UID:e.1367.2975
SEQUENCE:3
DTSTAMP:20260424T043437Z
URL:https://business.cityofcentralchamber.com/events/details/carnival-caravan-drive-by-parade-2975
END:VEVENT

END:VCALENDAR
