BEGIN:VCALENDAR
VERSION:2.0
PRODID:-//ChamberMaster//Event Calendar 2.0//EN
METHOD:PUBLISH
X-PUBLISHED-TTL:P3D
REFRESH-INTERVAL:P3D
CALSCALE:GREGORIAN
BEGIN:VEVENT
DTSTART:20230824T230000Z
DTEND:20230825T010000Z
X-MICROSOFT-CDO-ALLDAYEVENT:FALSE
SUMMARY:Candidates’ Forum
DESCRIPTION:The Central Chamber of Commerce Host a Candidate Forum for\n\nState Representative Districts 64\, 65 and State Senate District 6\n\n\n\nWe welcome you to Visit the Candidates at the conclusion of the forum.
X-ALT-DESC;FMTTYPE=text/html:The Central Chamber of Commerce Host a Candidate Forum for<br />\nState Representative Districts 64\, 65 and&nbsp\;State Senate District 6<br />\n<br />\nWe welcome you to&nbsp\;Visit the Candidates at the conclusion of the forum.&nbsp\;
LOCATION:Central High School Auditorium
UID:e.1367.3134
SEQUENCE:3
DTSTAMP:20260422T044030Z
URL:https://business.cityofcentralchamber.com/events/details/candidates-forum-3134
END:VEVENT

END:VCALENDAR
