BEGIN:VCALENDAR
VERSION:2.0
PRODID:-//ChamberMaster//Event Calendar 2.0//EN
METHOD:PUBLISH
X-PUBLISHED-TTL:P3D
REFRESH-INTERVAL:P3D
CALSCALE:GREGORIAN
BEGIN:VEVENT
DTSTART:20200513T163000Z
DTEND:20200513T180000Z
X-MICROSOFT-CDO-ALLDAYEVENT:FALSE
SUMMARY:CANCELLED: Members' Monthly Luncheon
DESCRIPTION:Topic -Networking
X-ALT-DESC;FMTTYPE=text/html:<span style="font-size:16px\;"><span style="font-family:times new roman\;"><span style="color:#0000CD\;"><strong>Topic -Networking</strong></span></span></span>
LOCATION:14025 Greenwell Springs Rd
UID:e.1367.1671
SEQUENCE:3
DTSTAMP:20260424T191451Z
URL:https://business.cityofcentralchamber.com/events/details/cancelled-members-monthly-luncheon-1671
END:VEVENT

END:VCALENDAR
