BEGIN:VCALENDAR
VERSION:2.0
PRODID:-//ChamberMaster//Event Calendar 2.0//EN
METHOD:PUBLISH
X-PUBLISHED-TTL:P3D
REFRESH-INTERVAL:P3D
CALSCALE:GREGORIAN
BEGIN:VEVENT
DTSTART:20210214T010000Z
DTEND:20210214T055500Z
X-MICROSOFT-CDO-ALLDAYEVENT:FALSE
SUMMARY:Cancelled: Krewe de Centrale' Mardi Gras Ball: The Greatest Showman
DESCRIPTION:The Mardi Gras Ball committee has determined it does not make financial sense to pursue the event this year. Thank you for your support of this event and the Chamber mission. We are looking forward to the best ball ever in 2022! \n\n \n\nHOWEVER\, we will not give up a good time this year! SO join us the evening of April 24 for a Spring Fling in Central!\n\n \n\nThere will be MUSIC  \, FOOD  \, and FUN  . Tickets will be available soon. Be sure to like our Facebook page so you will be notified when those are released.\n\n \n\n\nSee you in April for a great time!\n\n\n\n\n\n\n\n\nKrewe de Centrale' Mardi Gras Ball
X-ALT-DESC;FMTTYPE=text/html:<p style="margin: 0px 0px 6px\; font-family: Helvetica\, Arial\, sans-serif\; color: rgb(28\, 30\, 33)\; font-size: 14px\; text-align: center\;"><span style="font-size:16px\;"><span style="font-family:arial\;">The Mardi Gras Ball committee has determined it does not make financial sense to pursue the event this year. Thank you for your support of this event and the Chamber mission. We are looking forward to the best ball ever in 2022!&nbsp\;</span></span><br />\n&nbsp\;</p>\n\n<p style="margin: 6px 0px\; font-family: Helvetica\, Arial\, sans-serif\; color: rgb(28\, 30\, 33)\; font-size: 14px\; text-align: center\;"><span style="font-size:16px\;"><span style="font-family:arial\;">HOWEVER\, we will not give up a good time this year! SO join us the evening of April 24 for a Spring Fling in Central!</span></span><br />\n&nbsp\;</p>\n\n<p style="margin: 6px 0px\; font-family: Helvetica\, Arial\, sans-serif\; color: rgb(28\, 30\, 33)\; font-size: 14px\; text-align: center\;"><span style="font-size:16px\;"><span style="font-family:arial\;">There will be MUSIC&nbsp\;<span class="_5mfr" style="margin: 0px 1px\;"><span class="_6qdm" style="background-repeat: no-repeat\; background-size: contain\; color: transparent\; display: inline-block\; text-shadow: none\; vertical-align: text-bottom\; filter: invert(1) hue-rotate(180deg)\; height: 16px\; width: 16px\; background-image: url(&quot\;https://static.xx.fbcdn.net/images/emoji.php/v9/t21/1/16/1f3b8.png&quot\;)\;">&#127928\;</span></span>\, FOOD&nbsp\;<span class="_5mfr" style="margin: 0px 1px\;"><span class="_6qdm" style="background-repeat: no-repeat\; background-size: contain\; color: transparent\; display: inline-block\; text-shadow: none\; vertical-align: text-bottom\; filter: invert(1) hue-rotate(180deg)\; height: 16px\; width: 16px\; background-image: url(&quot\;https://static.xx.fbcdn.net/images/emoji.php/v9/t7d/1/16/1f32d.png&quot\;)\;">&#127789\;</span></span>\, and FUN&nbsp\;<span class="_5mfr" style="margin: 0px 1px\;"><span class="_6qdm" style="background-repeat: no-repeat\; background-size: contain\; color: transparent\; display: inline-block\; text-shadow: none\; vertical-align: text-bottom\; filter: invert(1) hue-rotate(180deg)\; height: 16px\; width: 16px\; background-image: url(&quot\;https://static.xx.fbcdn.net/images/emoji.php/v9/tfd/1/16/1f64c.png&quot\;)\;">&#128588\;</span></span>. Tickets will be available soon. Be sure to like our <a href="https://www.facebook.com/CentralChamberOfCommerce">Facebook page</a> so you will be notified when those are released.</span></span><br />\n&nbsp\;</p>\n\n<div class="text_exposed_show" style="display: inline\; font-family: Helvetica\, Arial\, sans-serif\; color: rgb(28\, 30\, 33)\; font-size: 14px\;">\n<p style="margin: 0px 0px 6px\; font-family: inherit\; text-align: center\;"><span style="font-size:16px\;"><span style="font-family:arial\;">See you in April for a great time!</span></span></p>\n</div>\n\n<p style="text-align: center"><br />\n<br />\n<br />\n<span style="color:#4B0082\;"><strong><em><span style="font-size: 18px"><span style="font-family: times new roman">Krewe de Centrale&#39\; Mardi Gras Ball</span></span></em></strong></span></p>\n
LOCATION:CCA Gym 10510 Joor Road
UID:e.1367.2965
SEQUENCE:3
DTSTAMP:20260424T043435Z
URL:https://business.cityofcentralchamber.com/events/details/cancelled-krewe-de-centrale-mardi-gras-ball-the-greatest-showman-2965
END:VEVENT

END:VCALENDAR
