BEGIN:VCALENDAR
VERSION:2.0
PRODID:-//ChamberMaster//Event Calendar 2.0//EN
METHOD:PUBLISH
X-PUBLISHED-TTL:P3D
REFRESH-INTERVAL:P3D
CALSCALE:GREGORIAN
BEGIN:VEVENT
DTSTART:20200708T163000Z
DTEND:20200708T180000Z
X-MICROSOFT-CDO-ALLDAYEVENT:FALSE
SUMMARY:CANCELED: Members' Monthly Luncheon
DESCRIPTION:Topic  - Legislative Update
X-ALT-DESC;FMTTYPE=text/html:<span style="font-size:16px\;"><span style="font-family:times new roman\;"><span style="color:#0000CD\;"><strong>Topic&nbsp\; - Legislative Update</strong></span></span></span>
LOCATION:14025 Greenwell Springs Rd.
UID:e.1367.1673
SEQUENCE:3
DTSTAMP:20260424T155527Z
URL:https://business.cityofcentralchamber.com/events/details/canceled-members-monthly-luncheon-1673
END:VEVENT

END:VCALENDAR
