BEGIN:VCALENDAR
VERSION:2.0
PRODID:-//ChamberMaster//Event Calendar 2.0//EN
METHOD:PUBLISH
X-PUBLISHED-TTL:P3D
REFRESH-INTERVAL:P3D
CALSCALE:GREGORIAN
BEGIN:VEVENT
DTSTART:20220819T210000Z
DTEND:20220819T213000Z
X-MICROSOFT-CDO-ALLDAYEVENT:FALSE
SUMMARY:C.J. Jenkins - Ribbon Cutting
DESCRIPTION:Come join us in the Celebration of C.J. Jenkins Law Firms NEW LOCATION in CENTRAL!
X-ALT-DESC;FMTTYPE=text/html:Come join us in the Celebration of C.J. Jenkins Law Firms NEW LOCATION in CENTRAL!&nbsp\;
LOCATION:12628 Hooper Road\, Suite A\, Baton Rouge\, LA 70818
UID:e.1367.3074
SEQUENCE:3
DTSTAMP:20260423T003036Z
URL:https://business.cityofcentralchamber.com/events/details/c-j-jenkins-ribbon-cutting-3074
END:VEVENT

END:VCALENDAR
