BEGIN:VCALENDAR
VERSION:2.0
PRODID:-//ChamberMaster//Event Calendar 2.0//EN
METHOD:PUBLISH
X-PUBLISHED-TTL:P3D
REFRESH-INTERVAL:P3D
CALSCALE:GREGORIAN
BEGIN:VEVENT
DTSTART:20250214T180000Z
DTEND:20250214T183000Z
X-MICROSOFT-CDO-ALLDAYEVENT:FALSE
SUMMARY:Brittany Weaver - Ribbon Cutting
DESCRIPTION:Exciting News!\n\n\n\nJoin us in celebrating the Grand Opening & Ribbon Cutting of Brittany Weaver State Farm! Enjoy drinks\, snacks\, and a pop-up vendor from NOLA Rouge Boutique! Let's come together to support a growing local business and welcome Brittany Weaver to the Central community! We can't wait to see you there!
X-ALT-DESC;FMTTYPE=text/html:<p><span style="font-size:18px\;">Exciting News!<br />\n<br />\nJoin us in celebrating the Grand Opening &amp\; Ribbon Cutting of Brittany Weaver State Farm! Enjoy drinks\, snacks\, and a pop-up vendor from NOLA Rouge Boutique! Let&#39\;s come together to support a growing local business and welcome Brittany Weaver to the Central community! We can&#39\;t wait to see you there!</span></p>\n
LOCATION:14345 Grand Settlement Blvd\, Ste 12\, Baton Rouge\, LA 70818.
UID:e.1367.3220
SEQUENCE:3
DTSTAMP:20260420T210137Z
URL:https://business.cityofcentralchamber.com/events/details/brittany-weaver-ribbon-cutting-3220
END:VEVENT

END:VCALENDAR
