BEGIN:VCALENDAR
VERSION:2.0
PRODID:-//ChamberMaster//Event Calendar 2.0//EN
METHOD:PUBLISH
X-PUBLISHED-TTL:P3D
REFRESH-INTERVAL:P3D
CALSCALE:GREGORIAN
BEGIN:VEVENT
DTSTART:20221102T133000Z
DTEND:20221102T150000Z
X-MICROSOFT-CDO-ALLDAYEVENT:FALSE
SUMMARY:Breakfast with Congressman Garrett Graves
DESCRIPTION:Join Us for a Breakfast with Congressman Garrett Graves. \n\nSponsored by DEMCO
X-ALT-DESC;FMTTYPE=text/html:Join Us for a Breakfast with Congressman Garrett Graves.&nbsp\;<br>\nSponsored by DEMCO
LOCATION:Kristenwood Reception Hall 14025 Greenwell Springs Rd
UID:e.1367.3088
SEQUENCE:3
DTSTAMP:20260422T192830Z
URL:https://business.cityofcentralchamber.com/events/details/breakfast-with-congressman-garrett-graves-3088
END:VEVENT

END:VCALENDAR
