BEGIN:VCALENDAR
VERSION:2.0
PRODID:-//ChamberMaster//Event Calendar 2.0//EN
METHOD:PUBLISH
X-PUBLISHED-TTL:P3D
REFRESH-INTERVAL:P3D
CALSCALE:GREGORIAN
BEGIN:VEVENT
DTSTART:20220321T220000Z
DTEND:20220322T000000Z
X-MICROSOFT-CDO-ALLDAYEVENT:FALSE
SUMMARY:BRCC Central Campus Open House | Explore Education in Central
DESCRIPTION:An open house at Baton Rouge Community College. \n\n\n\nTour the state-of-the-art facility and learn about the many non-traditional\, career-ready\, educational opportunities that they offer right here in Central.\n\n\n\nNondestructive Testing: Nondestructive testing is the process of inspecting\, testing or evaluating materials\, components\, or assemblies for discontinuities\, or differences in characteristics without destroying the serviceability of the part or system. This program only takes four months to complete and has a 98% job placement rate. The starting salary for graduates is $52\,000. \n\n\n\nProcess Technology: The Process Technology program prepares students to become refinery\, chemical\, pharmaceutical and other industry-related operators. The training includes working with functional a 40ft Glycol Unit on site. This two-and-a-half-year program has an 80% job placement rate and graduates can expect a 100k starting salary.
X-ALT-DESC;FMTTYPE=text/html:<span style="font-family:verdana\;"><span style="color:#B22222\;"><span style="font-size:16px\;"><strong>An open house at Baton Rouge Community College.&nbsp\;</strong></span></span><br />\n<br />\n<span style="font-size:16px\;">Tour the state-of-the-art facility and learn about the many non-traditional\, career-ready\, educational opportunities that they offer right here in Central.<br />\n<br />\n<strong>Nondestructive Testing</strong>: Nondestructive testing is the process of inspecting\, testing or evaluating materials\, components\, or assemblies for discontinuities\, or differences in characteristics without destroying the serviceability of the part or system. This program only takes four months to complete and has a 98% job placement rate. The starting salary for graduates is $52\,000.&nbsp\;<br />\n<br />\n<strong>Process Technology</strong>:&nbsp\;<span class="JsGRdQ" style="color: rgb(50\, 50\, 50)\;">The Process Technology program prepares students to become refinery\, chemical\, pharmaceutical and other industry-related operators.&nbsp\;The training includes working with functional a 40ft Glycol Unit on site. This two-and-a-half-year program has an 80% job placement rate and graduates can expect a 100k starting salary.</span></span></span>
LOCATION:Baton Rouge Community College-Central Campus 10700 Hooper Rd. Central\, LA 70805
UID:e.1367.3036
SEQUENCE:3
DTSTAMP:20260423T072806Z
URL:https://business.cityofcentralchamber.com/events/details/brcc-central-campus-open-house-explore-education-in-central-3036
END:VEVENT

END:VCALENDAR
