BEGIN:VCALENDAR
VERSION:2.0
PRODID:-//ChamberMaster//Event Calendar 2.0//EN
METHOD:PUBLISH
X-PUBLISHED-TTL:P3D
REFRESH-INTERVAL:P3D
CALSCALE:GREGORIAN
BEGIN:VEVENT
DTSTART:20211101T150000Z
DTEND:20211101T170000Z
X-MICROSOFT-CDO-ALLDAYEVENT:FALSE
SUMMARY:Blessing of the Graves
DESCRIPTION:Blessing of the Graves\n\nMonday\, November 1\, 2021 - ALL SAINTS DAY\,\n\nGreenoaks Memorial Park\n\nBLESSING TO BEGIN AT 10 AM.\n\n\nPlease join us\, beginning at 9 am to obtain your blessing kid\, which includes a rosary\, and a prayer card for those deceased\; along with\, Juice and Doughnuts (picnic style). Visit with your loved one\, and beginning at 10 am\, Deacon Brent Duplessis will be escorted by a Greenoaks representative around to each section of the park\, blessing the graves\, and mausoleums. \n\n\n\nWe invite you to attend services in your own Catholic Parish as Holy Mass will not be celebrated on-site.
X-ALT-DESC;FMTTYPE=text/html:<div style="text-align: center\;"><span style="font-size:16px\;">Blessing of the Graves<br />\nMonday\, November 1\, 2021 - ALL SAINTS DAY\,<br />\nGreenoaks Memorial Park<br />\n<u>BLESSING TO BEGIN AT 10 AM.</u></span></div>\n<br />\n<span style="font-size:16px\;">Please join us\, beginning at 9 am to obtain your blessing kid\, which includes a rosary\, and a prayer card for those deceased\; along with\, Juice and Doughnuts (picnic style). Visit with your loved one\, and beginning at 10 am\, Deacon Brent Duplessis will be escorted by a Greenoaks representative around to each section of the park\, blessing the graves\, and mausoleums.&nbsp\;<br />\n<br />\n<strong>We invite you to attend services in your own Catholic Parish as Holy Mass will not be celebrated on-site.</strong></span>
LOCATION:Greenoaks Memorial Park and Funeral Home
UID:e.1367.3020
SEQUENCE:3
DTSTAMP:20260423T150442Z
URL:https://business.cityofcentralchamber.com/events/details/blessing-of-the-graves-3020
END:VEVENT

END:VCALENDAR
