BEGIN:VCALENDAR
VERSION:2.0
PRODID:-//ChamberMaster//Event Calendar 2.0//EN
METHOD:PUBLISH
X-PUBLISHED-TTL:P3D
REFRESH-INTERVAL:P3D
CALSCALE:GREGORIAN
BEGIN:VEVENT
DTSTART:20190313T163000Z
DTEND:20190313T180000Z
X-MICROSOFT-CDO-ALLDAYEVENT:FALSE
SUMMARY:Awards Luncheon
DESCRIPTION:ANNUAL AWARDS LUNCHEON
X-ALT-DESC;FMTTYPE=text/html:ANNUAL AWARDS LUNCHEON
LOCATION:Kristenwood Reception Center 14025 GSRD
UID:e.1367.2722
SEQUENCE:3
DTSTAMP:20260425T160814Z
URL:https://business.cityofcentralchamber.com/events/details/awards-luncheon-2722
END:VEVENT

END:VCALENDAR
