BEGIN:VCALENDAR
VERSION:2.0
PRODID:-//ChamberMaster//Event Calendar 2.0//EN
METHOD:PUBLISH
X-PUBLISHED-TTL:P3D
REFRESH-INTERVAL:P3D
CALSCALE:GREGORIAN
BEGIN:VEVENT
DTSTART:20230831T140000Z
DTEND:20230831T150000Z
X-MICROSOFT-CDO-ALLDAYEVENT:FALSE
SUMMARY:Aldi's Ribbon Cutting
DESCRIPTION:Join us as we celebrate Aldi's Grand Opening in Central
X-ALT-DESC;FMTTYPE=text/html:Join us as we celebrate Aldi&#39\;s Grand Opening in Central&nbsp\;
LOCATION:14350 Grand Settlement Blvd\, Central\, LA 70818
UID:e.1367.3143
SEQUENCE:3
DTSTAMP:20260422T044004Z
URL:https://business.cityofcentralchamber.com/events/details/aldi-s-ribbon-cutting-3143
END:VEVENT

END:VCALENDAR
