BEGIN:VCALENDAR
VERSION:2.0
PRODID:-//ChamberMaster//Event Calendar 2.0//EN
METHOD:PUBLISH
X-PUBLISHED-TTL:P3D
REFRESH-INTERVAL:P3D
CALSCALE:GREGORIAN
BEGIN:VEVENT
DTSTART:20210501T150000Z
DTEND:20210501T190000Z
X-MICROSOFT-CDO-ALLDAYEVENT:FALSE
SUMMARY:Activate: Central's Wellness Festival
DESCRIPTION:Sponsorships Available until April 14th.\n\n\n\nWork out with us! \n\n\n\nActivate a healthier\, happier you on May 1st.\n\n\n\nJoin Central City Social & the Central Chamber of Commerce for: \n\n	Community workout classes\n	Healthy cooking demonstrations\n	Kids activity center\n	Local shops\n	Food\n	Music\n\n Join us for a wellness festival to showcase all our area has to offer in health\, fitness and mind and body wellness. \n\n\n\nAvailable Sponsorship Levels\n\n\n\nPremium - $750.00\n\nLimited to 2\n\n\n	Recognition as the premium sponsors and biggest logos on signage.\n	Recognition on social media.\n	Recognition on the event page.\n	Recognition at the event.\n	Vendor booth.\n\n \n\nGold - $500.00\n\n\n	Recognition as a supporting sponsor on signage.\n	Recognition on social media.\n	Recognition on event page.\n	Recognition at the event.\n	Vendor booth.\n\n \n\nSilver - $100.00\n\n\n	These sponsors will receive recognition on social media.\n	Recognition on the event page.\n	Recognition at the event.\n	Vendor booth.
X-ALT-DESC;FMTTYPE=text/html:<span style="font-size:16px\;"><span style="font-family:verdana\;">Sponsorships Available until April 14th.<br />\n<br />\nWork out with us!&nbsp\;<br />\n<br />\nActivate a healthier\, happier you on May 1st.<br />\n<br />\nJoin Central City Social &amp\; the Central Chamber of Commerce for:&nbsp\;</span></span>\n<ul>\n	<li><span style="font-size:16px\;"><span style="font-family:verdana\;">Community workout classes</span></span></li>\n	<li><span style="font-size:16px\;"><span style="font-family:verdana\;">Healthy cooking demonstrations</span></span></li>\n	<li><span style="font-size:16px\;"><span style="font-family:verdana\;">Kids activity center</span></span></li>\n	<li><span style="font-size:16px\;"><span style="font-family:verdana\;">Local shops</span></span></li>\n	<li><span style="font-size:16px\;"><span style="font-family:verdana\;">Food</span></span></li>\n	<li><span style="font-size:16px\;"><span style="font-family:verdana\;">Music</span></span></li>\n</ul>\n<span style="font-size:16px\;"><span style="font-family:verdana\;"> Join us for a wellness festival to showcase all our area has to offer in health\, fitness and mind and body wellness.&nbsp\;<br />\n<br />\n<strong>Available Sponsorship Levels</strong><br />\n<br />\n<strong>Premium - $750.00</strong><br />\nLimited to 2</span></span>\n\n<ul>\n	<li style="margin-left:0in\;"><span style="font-size:16px\;"><span style="font-family:verdana\;">Recognition as the premium sponsors and biggest logos on signage.</span></span></li>\n	<li style="margin-left:0in\;"><span style="font-size:16px\;"><span style="font-family:verdana\;">Recognition on social media.</span></span></li>\n	<li style="margin-left:0in\;"><span style="font-size:16px\;"><span style="font-family:verdana\;">Recognition on the event page.</span></span></li>\n	<li style="margin-left:0in\;"><span style="font-size:16px\;"><span style="font-family:verdana\;">Recognition at the event.</span></span></li>\n	<li style="margin-left:0in\;"><span style="font-size:16px\;"><span style="font-family:verdana\;">Vendor booth.</span></span></li>\n</ul>\n<span style="font-size:16px\;"><span style="font-family:verdana\;">&nbsp\;<br />\n<strong>Gold - $500.00</strong></span></span>\n\n<ul>\n	<li style="margin-left:0in\;"><span style="font-size:16px\;"><span style="font-family:verdana\;">Recognition as a supporting sponsor on signage.</span></span></li>\n	<li style="margin-left:0in\;"><span style="font-size:16px\;"><span style="font-family:verdana\;">Recognition on social media.</span></span></li>\n	<li style="margin-left:0in\;"><span style="font-size:16px\;"><span style="font-family:verdana\;">Recognition on event page.</span></span></li>\n	<li style="margin-left:0in\;"><span style="font-size:16px\;"><span style="font-family:verdana\;">Recognition at the event.</span></span></li>\n	<li style="margin-left:0in\;"><span style="font-size:16px\;"><span style="font-family:verdana\;">Vendor booth.</span></span></li>\n</ul>\n<span style="font-size:16px\;"><span style="font-family:verdana\;">&nbsp\;<br />\n<strong>Silver - $100.00</strong></span></span>\n\n<ul>\n	<li style="margin-left:0in\;"><span style="font-size:16px\;"><span style="font-family:verdana\;">These sponsors will receive recognition on social media.</span></span></li>\n	<li style="margin-left:0in\;"><span style="font-size:16px\;"><span style="font-family:verdana\;">Recognition on the event page.</span></span></li>\n	<li style="margin-left:0in\;"><span style="font-size:16px\;"><span style="font-family:verdana\;">Recognition at the event.</span></span></li>\n	<li style="margin-left:0in\;"><span style="font-size:16px\;"><span style="font-family:verdana\;">Vendor booth.</span></span></li>\n</ul>\n
LOCATION:Central Square Sullivan Rd Central\, LA 70818
UID:e.1367.2977
SEQUENCE:3
DTSTAMP:20260423T235047Z
URL:https://business.cityofcentralchamber.com/events/details/activate-central-s-wellness-festival-2977
END:VEVENT

END:VCALENDAR
