BEGIN:VCALENDAR
VERSION:2.0
PRODID:-//ChamberMaster//Event Calendar 2.0//EN
METHOD:PUBLISH
X-PUBLISHED-TTL:P3D
REFRESH-INTERVAL:P3D
CALSCALE:GREGORIAN
BEGIN:VEVENT
DTSTART:20211204T210000Z
DTEND:20211205T000000Z
X-MICROSOFT-CDO-ALLDAYEVENT:FALSE
SUMMARY:A Very Merry Shop the Square & Tree Lighting
DESCRIPTION:We have had such a blast at Shop the Squares this Spring that we're bringing it back and making it jolly! Also\, don't miss the lighting of the Christmas tree! \n\n\n\nOn Dec. 4th starting at 4 pm we will be at 13567 Hooper Rd with a Central one-stop-shop.\n\n\n\nJoin the Central Christmas Shop Small Campaign here before Nov. 13.\n\n\n\nHere's what you can expect: \n\n	Great shopping\n	Kids activities\n	Food trucks\n	Music from the Central High Jazz band\n	A reading of the Christmas Story\n	The Christmas Tree Lighting\n\nJoin all the fun for FREE\, just stop by.\n\n\n\nChamber Members can set up a booth for only $30. Just click "Register" on the right. \n\n\n\nGuest businesses can set up a booth for only $50. Just click "Register" on the right. \n\n\n\nBooth Requirements\n\n\n	Each vendor is responsible for bringing their own tent and table.\n	We have designated a spot that will fit a 10 x 10 tent for each vendor. If you are sharing space and would like to use a larger tent\, please contact us for approval. \n	Tents must be weighed down in case of wind.\n	Tent spaces should be kept trash-free. There will be trash cans on site.\n	All items must fit within your tent space. \n	We do not have power available.\n\nBasic Rules\n\n\n	Tent placement requests can not be guaranteed.\n	You will check-in at the Central Chamber tent upon arrival. \n	Must comply with all state and local laws including tax collection. \n	No smoking. \n	Vendors should be set up by 3:30 pm and you must remain on site until 7 pm. \n	All food items must be clearly labeled with your business name and phone number.\n	There will be no live animal sales.\n\nCancellations\n\n\n	Cancellations should be made 5 days prior to the event (Nov. 29) or fees will be forfeited.\n	If anyone does not cancel in a timely manner they will not be allowed to participate in future Shop the Square events. \n	If a vendor has repeated cancellations\, they will not be allowed to participate in future Shop the Square events. \n	Vendors should check the weather forecast by the cancellation deadline and decide to cancel or not. \n	If the Chamber cancels the event due to weather a contingent date for Shop the Square will be selected. Alternatively\, vendors could request a credit to participate in the next Shop the Square event. \n\nVendors are expected to promote Shop the Square on social media.
X-ALT-DESC;FMTTYPE=text/html:<span style="font-size:14px\;"><span style="font-family:arial\;">We have had such a blast at Shop the Squares this Spring that we&#39\;re bringing it back and making it jolly! Also\, don&#39\;t miss the lighting of the Christmas tree!&nbsp\;<br />\n<br />\nOn Dec. 4th starting at 4 pm we will be at </span></span><span style="font-family: arial\; font-size: 14px\;">13567 Hooper Rd</span><span style="font-size:14px\;"><span style="font-family:arial\;">&nbsp\;with a Central one-stop-shop.<br />\n<br />\nJoin the Central Christmas Shop Small Campaign <a href="http://members.cityofcentralchamber.com/events/details/central-christmas-campaign-shop-small-2021-kick-off-2994">here before Nov. 13.</a><br />\n<br />\n<strong>Here&#39\;s what you can expect:&nbsp\;</strong></span></span>\n<ul>\n	<li><span style="font-size:14px\;"><span style="font-family:arial\;"><strong>Great shopping</strong></span></span></li>\n	<li><span style="font-size:14px\;"><span style="font-family:arial\;"><strong>Kids activities</strong></span></span></li>\n	<li><span style="font-size:14px\;"><span style="font-family:arial\;"><strong>Food trucks</strong></span></span></li>\n	<li><span style="font-size:14px\;"><span style="font-family:arial\;"><strong>Music from the Central High Jazz band</strong></span></span></li>\n	<li><span style="font-size:14px\;"><span style="font-family:arial\;"><strong>A reading of the Christmas Story</strong></span></span></li>\n	<li><font face="arial"><span style="font-size: 14px\;"><b>The Christmas Tree Lighting</b></span></font></li>\n</ul>\n<span style="font-size:14px\;"><span style="font-family:arial\;">Join all the fun for FREE\, just stop by.<br />\n<br />\nChamber Members can set up a booth for only $30. Just click &quot\;Register&quot\; on the right.&nbsp\;<br />\n<br />\nGuest businesses can set up a booth for only $50. Just click &quot\;Register&quot\; on the right.&nbsp\;<br />\n<br />\n<strong>Booth Requirements</strong></span></span>\n\n<ul>\n	<li><span style="font-size:14px\;"><span style="font-family:arial\;">Each vendor is responsible for bringing their own tent and table.</span></span></li>\n	<li><span style="font-size:14px\;"><span style="font-family:arial\;">We have designated a spot that will fit a 10 x 10 tent for each vendor.&nbsp\;If you are sharing space and would like to use a larger tent\, please contact us for approval.&nbsp\;</span></span></li>\n	<li><span style="font-size:14px\;"><span style="font-family:arial\;">Tents must be weighed&nbsp\;down in case of wind.</span></span></li>\n	<li><span style="font-size:14px\;"><span style="font-family:arial\;">Tent spaces should be kept trash-free. There will be trash cans on site.</span></span></li>\n	<li><span style="font-size:14px\;"><span style="font-family:arial\;">All items must fit within your tent space.&nbsp\;</span></span></li>\n	<li><span style="font-size:14px\;"><span style="font-family:arial\;">We do not have power available.</span></span></li>\n</ul>\n<span style="font-size:14px\;"><span style="font-family:arial\;"><strong>Basic Rules</strong></span></span>\n\n<ul>\n	<li><span style="font-size:14px\;"><span style="font-family:arial\;">Tent placement requests can not be guaranteed.</span></span></li>\n	<li><span style="font-size:14px\;"><span style="font-family:arial\;">You will check-in at the Central Chamber tent upon arrival.&nbsp\;</span></span></li>\n	<li><span style="font-size:14px\;"><span style="font-family:arial\;">Must comply with all state and local laws including tax collection.&nbsp\;</span></span></li>\n	<li><span style="font-size:14px\;"><span style="font-family:arial\;">No smoking.&nbsp\;</span></span></li>\n	<li><span style="font-size:14px\;"><span style="font-family:arial\;">Vendors should be set up by 3:30 pm and you must remain on site until 7 pm.&nbsp\;</span></span></li>\n	<li><span style="font-size:14px\;"><span style="font-family:arial\;">All food items must be clearly labeled with your business name and phone number.</span></span></li>\n	<li><span style="font-size:14px\;"><span style="font-family:arial\;">There will be no live animal sales.</span></span></li>\n</ul>\n<span style="font-size:14px\;"><span style="font-family:arial\;"><strong>Cancellations</strong></span></span>\n\n<ul>\n	<li><span style="font-size:14px\;"><span style="font-family:arial\;">Cancellations should be made 5 days prior to the event (Nov. 29) or fees will be forfeited.</span></span></li>\n	<li><span style="font-size:14px\;"><span style="font-family:arial\;">If anyone does not cancel in a timely manner they will not be allowed to participate in future Shop the Square events.&nbsp\;</span></span></li>\n	<li><span style="font-size:14px\;"><span style="font-family:arial\;">If a vendor has repeated&nbsp\;cancellations\, they will not be allowed to participate in future Shop the Square events.&nbsp\;</span></span></li>\n	<li><span style="font-size:14px\;"><span style="font-family:arial\;">Vendors should check the weather forecast by the cancellation deadline and decide to cancel or not.&nbsp\;</span></span></li>\n	<li><span style="font-size:14px\;"><span style="font-family:arial\;">If the Chamber cancels the event due to weather a contingent date for Shop the Square will be selected. Alternatively\, vendors could request a credit to participate in the next Shop the Square event.&nbsp\;</span></span></li>\n</ul>\n<span style="font-size:14px\;"><span style="font-family:arial\;">Vendors are expected to promote Shop the Square on social media.</span></span>
LOCATION:13567 Hooper Rd Central\, LA 70818
UID:e.1367.2996
SEQUENCE:3
DTSTAMP:20260423T120101Z
URL:https://business.cityofcentralchamber.com/events/details/a-very-merry-shop-the-square-tree-lighting-2996
END:VEVENT

END:VCALENDAR
