BEGIN:VCALENDAR
VERSION:2.0
PRODID:-//ChamberMaster//Event Calendar 2.0//EN
METHOD:PUBLISH
X-PUBLISHED-TTL:P3D
REFRESH-INTERVAL:P3D
CALSCALE:GREGORIAN
BEGIN:VEVENT
DTSTART;VALUE=DATE:20210507
DTEND;VALUE=DATE:20210509
TRANSP:TRANSPARENT
X-MICROSOFT-CDO-ALLDAYEVENT:TRUE
SUMMARY:63rd Annual Rodeo: Greenwell Springs Youth Riders
DESCRIPTION:Get Ready to RO-DE-O!     \n\n\n\n63rd Annual Greenwell Springs Youth Riders Pro Rodeo\n\n\n\nMay 7th & 8th\n\n\n\n\nBREC Shady Park Arena\n\nGreenwell Springs\, LA\n\n\n\nGates will open at 6 pm and the rodeo starts at 7:30 pm!\n\n\n\nTicket Prices\n\nAdults: $10\n\nStudents (up to age 17): $5 \n\nUnder 5: FREE\n\n\n\nTHANK YOU FOR SUPPORTING OUR RODEO!\n\n\n\nRodeo Events \n\nRodeo 7:30 PM\n\n\n	Ranch Style Saddle Bronc Riding\n	Bull Riding\n	Calf Roping\n	Performance by the Greenwell Springs Youth Riders \n	Breakaway Roping\n	Team Roping \n	Trick Rider\n	Barrel Racing\n\nSaturday Morning\n\n\n	8 AM - Rodeo Queen Contest\n	Noon - Ranch Rodeo\n\nSaturday Night\n\n(During Rodeo) \n\n\n	Rodeo Queen Presentation
X-ALT-DESC;FMTTYPE=text/html:<div style="text-align: center\;"><span style="font-size:18px\;"><span style="font-family:tahoma\;"><strong>Get&nbsp\;Ready to&nbsp\;RO-DE-O!&nbsp\;&nbsp\;&nbsp\;&nbsp\;&nbsp\;<br />\n<br />\n63rd&nbsp\;Annual&nbsp\;Greenwell Springs Youth Riders Pro Rodeo<br />\n<br />\nMay 7th &amp\; 8th</strong></span></span></div>\n<br />\n<br />\n<span style="font-size:18px\;"><span style="font-family:tahoma\;">BREC Shady Park Arena<br />\nGreenwell Springs\, LA<br />\n<br />\nGates will open at 6 pm and the rodeo starts at 7:30 pm!<br />\n<br />\n<strong>Ticket Prices</strong><br />\nAdults: $10<br />\nStudents (up to age 17): $5&nbsp\;<br />\nUnder 5: FREE<br />\n<br />\nTHANK YOU FOR SUPPORTING OUR RODEO!<br />\n<br />\n<strong>Rodeo Events&nbsp\;</strong><br />\nRodeo 7:30 PM</span></span>\n\n<ul>\n	<li><span style="font-size:18px\;"><span style="font-family:tahoma\;">Ranch Style Saddle Bronc Riding</span></span></li>\n	<li><span style="font-size:18px\;"><span style="font-family:tahoma\;">Bull Riding</span></span></li>\n	<li><span style="font-size:18px\;"><span style="font-family:tahoma\;">Calf Roping</span></span></li>\n	<li><span style="font-size:18px\;"><span style="font-family:tahoma\;">Performance by the Greenwell Springs Youth Riders&nbsp\;</span></span></li>\n	<li><span style="font-size:18px\;"><span style="font-family:tahoma\;">Breakaway Roping</span></span></li>\n	<li><span style="font-size:18px\;"><span style="font-family:tahoma\;">Team Roping&nbsp\;</span></span></li>\n	<li><span style="font-size:18px\;"><span style="font-family:tahoma\;">Trick Rider</span></span></li>\n	<li><span style="font-size:18px\;"><span style="font-family:tahoma\;">Barrel Racing</span></span></li>\n</ul>\n<span style="font-size:18px\;"><span style="font-family:tahoma\;"><strong>Saturday Morning</strong></span></span>\n\n<ul>\n	<li><span style="font-size:18px\;"><span style="font-family:tahoma\;">8 AM - Rodeo Queen Contest</span></span></li>\n	<li><span style="font-size:18px\;"><span style="font-family:tahoma\;">Noon - Ranch Rodeo</span></span></li>\n</ul>\n<span style="font-size:18px\;"><span style="font-family:tahoma\;"><strong>Saturday Night</strong><br />\n(During Rodeo)&nbsp\;</span></span>\n\n<ul>\n	<li><span style="font-size:18px\;"><span style="font-family:tahoma\;">Rodeo Queen Presentation</span></span></li>\n</ul>\n
LOCATION:BREC Shady Park Arena Greenwell Springs\, LA
UID:e.1367.2984
SEQUENCE:3
DTSTAMP:20260423T235057Z
URL:https://business.cityofcentralchamber.com/events/details/63rd-annual-rodeo-greenwell-springs-youth-riders-2984
END:VEVENT

END:VCALENDAR
