BEGIN:VCALENDAR
VERSION:2.0
PRODID:-//ChamberMaster//Event Calendar 2.0//EN
METHOD:PUBLISH
X-PUBLISHED-TTL:P3D
REFRESH-INTERVAL:P3D
CALSCALE:GREGORIAN
BEGIN:VEVENT
DTSTART:20240621T173000Z
DTEND:20240621T174500Z
X-MICROSOFT-CDO-ALLDAYEVENT:FALSE
SUMMARY:5 Year Anniversary Ribbon Cutting - Donnie Bonanno's
DESCRIPTION:Join us in celebrating the 5 Year Anniversary Ribbon Cutting for Donnie Bonanno's Furniture Refinishing & Repair!
X-ALT-DESC;FMTTYPE=text/html:Join us in celebrating the 5 Year Anniversary Ribbon Cutting for Donnie Bonanno&#39\;s Furniture Refinishing &amp\; Repair!
LOCATION:8326 Hooper Road\, Central\, LA 70811
UID:e.1367.3193
SEQUENCE:3
DTSTAMP:20260421T084304Z
URL:https://business.cityofcentralchamber.com/events/details/5-year-anniversary-ribbon-cutting-donnie-bonanno-s-3193
END:VEVENT

END:VCALENDAR
