BEGIN:VCALENDAR
VERSION:2.0
PRODID:-//ChamberMaster//Event Calendar 2.0//EN
METHOD:PUBLISH
X-PUBLISHED-TTL:P3D
REFRESH-INTERVAL:P3D
CALSCALE:GREGORIAN
BEGIN:VEVENT
DTSTART:20221017T170000Z
DTEND:20221017T230000Z
X-MICROSOFT-CDO-ALLDAYEVENT:FALSE
SUMMARY:2022 Golf Scramble
DESCRIPTION:Annual Central Chamber of Commerce Golf Scramble: TAILGATE TEE-OFF!
X-ALT-DESC;FMTTYPE=text/html:<h1><span style="font-size: 14px\;"><strong style="color: rgb(47\, 79\, 79)\;">Annual Central Chamber of Commerce Golf Scramble<font face="arial">: <span style="color:#4B0082\;">TAILGATE TEE-OFF!&nbsp\;</span></font></strong></span></h1>\n
LOCATION:Greystone Golf and Country Club 9461 St. Andrews Ct. Denham Springs\, LA 70726
UID:e.1367.3033
SEQUENCE:3
DTSTAMP:20260422T210413Z
URL:https://business.cityofcentralchamber.com/events/details/2022-golf-scramble-3033
END:VEVENT

END:VCALENDAR
