BEGIN:VCALENDAR
VERSION:2.0
PRODID:-//ChamberMaster//Event Calendar 2.0//EN
METHOD:PUBLISH
X-PUBLISHED-TTL:P3D
REFRESH-INTERVAL:P3D
CALSCALE:GREGORIAN
BEGIN:VEVENT
DTSTART:20211018T170000Z
DTEND:20211018T230000Z
X-MICROSOFT-CDO-ALLDAYEVENT:FALSE
SUMMARY:2021 Golf Scramble - Par Wars: May the Course be with You
DESCRIPTION:Annual Central Chamber of Commerce Golf Scramble\n\n\n\nOur Golf Scramble is so much fun it's out of this galaxy! Don't miss this year's good time at Greystone Country Club on October 18.\n\n\n\nWhat you can expect? Food\, Drink & a lot of fun!\n\n\n\nHow can you participate? Click "Register" and sign yourself up as a sponsor\, a team or an individual player.\n\n\n\nHow can you win? Be the best golfers to snag a first\, second or third place prize! OR Be an awesome hole sponsor and win best decor\, best food or best party sponsor!\n\n\n\nWho's in?\n\nTent Sponsors\n\nAA Mini Storage\n\nBank of Zachary\n\nBaton Rouge General Physicians Group\n\nCentral Spine & Sports Rehab\n\nC J Jenkins Law Firm\n\nFirst Southern Title\n\nHancock Whitney\n\nIBTS\n\nLit Pizza\n\nPeople's Bank\n\nPremier South Roofing & Sheet Metal\n\nSonic Drive-in\n\n\n\nHole Sponsors\n\nAA Mini Storage\n\nBank of Zachary\n\nBrian Wilson\, EBR Parish Assessor\n\nCentral Chiropractic Center\n\nCrawler Supply\n\nEFCU Financial\n\nFarm Bureau Insurance\, Matt Banta\n\nFirst Southern Title\n\nLake After Hours\n\nLane Regional Medical Center\n\nRogers Regional Eye Center\n\nSenator Bodi White\n\nTreads & Care\n\n\n\nCart Sponsors\n\nOak Point Fresh Market\n\nTeams\n\nAA Mini Storage\n\nBank of Zachary\n\nBaton Rouge General Physicians Group\n\nBerkshire Hathaway\n\nCentral CrossThreads\n\nCentral Heating & Air\n\nCentral Super Suds\n\nEEE Reps\n\nFarm Bureau Insurance\, Matt Banta\n\nFirst Southern Title\n\nHancock Whitney\n\nIBTS\n\nNursing PRN\n\nPeople's Bank\n\nPremier South Roofing & Sheet Metal\n\nLit Pizza\n\nStrix Louisiana\n\n\n\nT-shirt Sponsors\n\nCentral Sonic Drive-in\n\nMichael Loolara\, State Farm Insurance
X-ALT-DESC;FMTTYPE=text/html:<h1><span style="color:#2F4F4F\;"><span style="font-size:14px\;"><strong>Annual Central Chamber of Commerce Golf Scramble</strong></span></span></h1>\n\n<p><br />\n<span style="font-family:arial\;"><span style="font-size:14px\;">Our Golf Scramble is so much fun it&#39\;s out of this galaxy!&nbsp\;Don&#39\;t miss this year&#39\;s good time at Greystone Country Club on October 18.<br />\n<br />\n<strong>What you can expect?</strong>&nbsp\;Food\, Drink &amp\; a lot of fun!<br />\n<br />\n<strong>How can you participate? </strong>Click &quot\;Register&quot\; and sign yourself up as a sponsor\, a team or an individual player.<br />\n<br />\n<strong>How can you win?</strong>&nbsp\;Be the best golfers to snag a first\, second or third place prize! OR Be an awesome hole sponsor and win best decor\, best food or best party sponsor!</span></span><br />\n<br />\n<span style="font-size:16px\;"><span style="color: rgb(47\, 79\, 79)\;"><strong>Who&#39\;s in?</strong></span></span></p>\n\n<p style="text-align: center\;"><strong style="color: rgb(47\, 79\, 79)\; font-size: 16px\; text-align: center\;">Tent Sponsors</strong><br />\n<span style="text-align: center\;">AA Mini Storage</span><br style="text-align: center\;" />\n<span style="text-align: center\;">Bank of Zachary<br />\nBaton Rouge General Physicians Group<br />\nCentral Spine &amp\; Sports Rehab<br />\nC J Jenkins Law Firm<br />\nFirst Southern Title<br />\nHancock Whitney<br />\nIBTS<br />\nLit Pizza<br />\nPeople&#39\;s Bank<br />\nPremier South Roofing&nbsp\;&amp\; Sheet Metal<br />\nSonic Drive-in</span><br />\n<br />\n<span style="font-size:16px\;"><span style="color: rgb(47\, 79\, 79)\;"><strong>Hole Sponsors</strong></span></span><br />\nAA Mini Storage<br />\nBank of Zachary<br />\nBrian Wilson\, EBR Parish Assessor<br />\nCentral Chiropractic Center<br />\nCrawler Supply<br />\nEFCU Financial<br />\nFarm Bureau Insurance\, Matt Banta<br />\nFirst Southern Title<br />\nLake After Hours<br />\nLane Regional Medical Center<br />\nRogers Regional Eye Center<br />\nSenator Bodi White<br />\nTreads &amp\; Care<br />\n<br />\n<span style="text-align: center\; font-size: 16px\;"><span style="color: rgb(47\, 79\, 79)\;"><strong>Cart Sponsors</strong></span></span><br style="text-align: center\;" />\n<span style="text-align: center\;">Oak Point Fresh Market</span></p>\n\n<p style="text-align: center\;"><span style="font-size:16px\;"><span style="color: rgb(47\, 79\, 79)\;"><strong>Teams</strong></span></span><br />\n<span style="text-align: center\;">AA Mini Storage</span><br style="text-align: center\;" />\n<span style="text-align: center\;">Bank of Zachary</span><br />\nBaton Rouge General Physicians Group<br />\nBerkshire Hathaway<br />\nCentral CrossThreads<br />\nCentral Heating &amp\; Air<br />\n<span style="text-align: center\;">Central Super Suds<br />\nEEE Reps<br />\nFarm Bureau Insurance\, Matt Banta<br />\nFirst Southern Title</span><br />\nHancock Whitney<br />\nIBTS<br />\nNursing PRN<br />\nPeople&#39\;s Bank<br />\n<span style="text-align: center\;">Premier South Roofing&nbsp\;</span><span style="text-align: center\;">&amp\; Sheet Metal</span><br />\nLit Pizza<br />\nStrix Louisiana<br />\n<br />\n<span style="text-align: center\; font-size: 16px\;"><span style="color: rgb(47\, 79\, 79)\;"><strong>T-shirt Sponsors</strong></span></span><br style="text-align: center\;" />\n<span style="text-align: center\;">Central Sonic Drive-in<br />\nMichael Loolara\, State Farm Insurance</span></p>\n
LOCATION:Greystone Golf and Country Club 9461 St. Andrews Ct. Denham Springs\, LA 70726
UID:e.1367.2990
SEQUENCE:3
DTSTAMP:20260423T174124Z
URL:https://business.cityofcentralchamber.com/events/details/2021-golf-scramble-par-wars-may-the-course-be-with-you-2990
END:VEVENT

END:VCALENDAR
