BEGIN:VCALENDAR
VERSION:2.0
PRODID:-//ChamberMaster//Event Calendar 2.0//EN
METHOD:PUBLISH
X-PUBLISHED-TTL:P3D
REFRESH-INTERVAL:P3D
CALSCALE:GREGORIAN
BEGIN:VEVENT
DTSTART:20201019T170000Z
DTEND:20201019T230000Z
X-MICROSOFT-CDO-ALLDAYEVENT:FALSE
SUMMARY:2020 Golf Scramble - Spooky Mask Bash!
DESCRIPTION:Annual Central Chamber of Commerce Golf Scramble\n\n\n\nIt's spooky how much fun our annual golf scramble is! Don't miss this year's Spooky Mask Bash at Greystone Country Club on October 19.\n\n\n\nWhat you can expect? Food\, Drink & Spooky fun!\n\n\n\nHow can you participate? Click "Register" and sign yourself up as a sponsor\, a team or an individual player.\n\n\n\nHow can you win? Be the best golfers to snag a first\, second or third place prize! OR Be a scary awesome hole sponsor and win best decor\, best food or best party sponsor!\n\n\n\nWho's in?\n\nHole Sponsors\n\n \n\n\n	Crawler Supply\n	Mack "Bodi" White\n	Lake After Hours & Urgent Care\n	DAVE CO PLUMBING\n	Aaron Moak for EBR Council\n	Jim Clark\, Twin Peaks\n	Clark & Newlin\, LLC\n	Sullivan's Ace Hardware\n	Wholesale Signs\n	@Homecare of Louisiana\n	Michael Loolara\, State Farm\n\n\nTeams\n\n\n	Patin Insurance\n	Central Super Suds\n	First Southern Title \n	Stab's Steak & Seafood\n	Ochsner Health\n	AA Mini Storage\n	Bank of Zachary\n	Hancock Whitney\n	TnT Gas & Supply\n	People's Bank\n	Central Heating & Air\n	Central Cross Threads\n	Berkshire Hathaway\n	Brian Wilson\, EBR Assessor\n	Farm Bureau\n	Nursing PRN
X-ALT-DESC;FMTTYPE=text/html:<h1><span style="color:#2F4F4F\;"><span style="font-size:14px\;"><strong>Annual Central Chamber of Commerce Golf Scramble</strong></span></span></h1>\n\n<p><br />\n<span style="font-family:arial\;"><span style="font-size:14px\;">It&#39\;s spooky how much fun our annual golf scramble is! Don&#39\;t miss this year&#39\;s Spooky Mask Bash at Greystone Country Club on October 19.<br />\n<br />\n<strong>What you can expect?</strong>&nbsp\;Food\, Drink &amp\; Spooky fun!<br />\n<br />\n<strong>How can you participate? </strong>Click &quot\;Register&quot\; and sign yourself up as a sponsor\, a team or an individual player.<br />\n<br />\n<strong>How can you win?</strong>&nbsp\;Be the best golfers to snag a first\, second or third place prize! OR Be a scary awesome hole sponsor and win best decor\, best food or best party sponsor!</span></span><br />\n<br />\n<span style="font-size:16px\;"><span style="color: rgb(47\, 79\, 79)\;"><strong>Who&#39\;s in?</strong></span></span></p>\n\n<p style="text-align: center\;"><span style="font-size:16px\;"><span style="color: rgb(47\, 79\, 79)\;"><strong>Hole Sponsors</strong></span></span><br />\n&nbsp\;</p>\n\n<ol>\n	<li><span style="font-family: arial\;">Crawler Supply</span></li>\n	<li><span style="font-family: arial\;">Mack &quot\;Bodi&quot\; White</span></li>\n	<li><span style="font-family: arial\;">Lake After Hours &amp\; Urgent Care</span></li>\n	<li><span style="font-family: arial\;">DAVE CO PLUMBING</span></li>\n	<li><span style="font-family: arial\;">Aaron Moak for EBR Council</span></li>\n	<li><span style="font-family: arial\;">Jim Clark\, Twin Peaks</span></li>\n	<li><span style="font-family: arial\;">Clark &amp\; Newlin\, LLC</span></li>\n	<li><span style="font-family: arial\;">Sullivan&#39\;s Ace Hardware</span></li>\n	<li><span style="font-family: arial\;">Wholesale Signs</span></li>\n	<li><span style="font-family: arial\;">@Homecare of Louisiana</span></li>\n	<li><span style="font-family: arial\;">Michael Loolara\, State Farm</span></li>\n</ol>\n\n<p style="text-align: center\;"><span style="font-size:16px\;"><span style="color: rgb(47\, 79\, 79)\;"><strong>Teams</strong></span></span></p>\n\n<ol>\n	<li><span style="font-family:arial\;">Patin Insurance</span></li>\n	<li><span style="font-family:arial\;">Central Super Suds</span></li>\n	<li><span style="font-family:arial\;">First Southern Title&nbsp\;</span></li>\n	<li><span style="font-family:arial\;">Stab&#39\;s Steak &amp\; Seafood</span></li>\n	<li><span style="font-family:arial\;">Ochsner Health</span></li>\n	<li><span style="font-family:arial\;">AA Mini Storage</span></li>\n	<li><span style="font-family:arial\;">Bank of Zachary</span></li>\n	<li><span style="font-family:arial\;">Hancock Whitney</span></li>\n	<li><span style="font-family:arial\;">TnT Gas &amp\; Supply</span></li>\n	<li><span style="font-family:arial\;">People&#39\;s Bank</span></li>\n	<li><span style="font-family:arial\;">Central Heating &amp\; Air</span></li>\n	<li><span style="font-family:arial\;">Central Cross Threads</span></li>\n	<li><span style="font-family:arial\;">Berkshire Hathaway</span></li>\n	<li><span style="font-family:arial\;">Brian Wilson\, EBR Assessor</span></li>\n	<li><span style="font-family:arial\;">Farm Bureau</span></li>\n	<li>Nursing PRN</li>\n</ol>\n
LOCATION:Greystone Golf and Country Club 9461 St. Andrews Ct. Denham Springs\, LA 70726
UID:e.1367.2947
SEQUENCE:3
DTSTAMP:20260424T110845Z
URL:https://business.cityofcentralchamber.com/events/details/2020-golf-scramble-spooky-mask-bash-2947
END:VEVENT

END:VCALENDAR
