BEGIN:VCALENDAR
VERSION:2.0
PRODID:-//ChamberMaster//Event Calendar 2.0//EN
METHOD:PUBLISH
X-PUBLISHED-TTL:P3D
REFRESH-INTERVAL:P3D
CALSCALE:GREGORIAN
BEGIN:VEVENT
DTSTART:20190217T010000Z
DTEND:20190218T055500Z
X-MICROSOFT-CDO-ALLDAYEVENT:FALSE
SUMMARY:2019 Krewe De Centrale Mardi Gras Ball
DESCRIPTION:13th Annual Krewe de Centrale'\n\nMardi Gras Ball\n\n"ROARING 20'S"\n\nFeaturing the Eddie Smith Band
X-ALT-DESC;FMTTYPE=text/html:<strong>13th Annual Krewe de Centrale&#39\;</strong><br />\nMardi Gras Ball<br />\n&quot\;ROARING 20&#39\;S&quot\;<br />\nFeaturing the Eddie Smith Band
LOCATION:10510 Joor Road The CCA Gym
UID:e.1367.2696
SEQUENCE:3
DTSTAMP:20260425T173838Z
URL:https://business.cityofcentralchamber.com/events/details/2019-krewe-de-centrale-mardi-gras-ball-2696
END:VEVENT

END:VCALENDAR
