BEGIN:VCALENDAR
VERSION:2.0
PRODID:-//ChamberMaster//Event Calendar 2.0//EN
METHOD:PUBLISH
X-PUBLISHED-TTL:P3D
REFRESH-INTERVAL:P3D
CALSCALE:GREGORIAN
BEGIN:VEVENT
DTSTART:20241123T130000Z
DTEND:20241123T180000Z
X-MICROSOFT-CDO-ALLDAYEVENT:FALSE
SUMMARY:12th Annual Running of the Elves 5K
DESCRIPTION:Register to Run HERE:\n\nhttps://runsignup.com/Race/LA/Central/ElfRun5k\n\n\n\nT-Shirt Sponsors\, Vendors\, and Pancake Cooks may click the "Register" button on the right.\n\n\n\nParticipate in the 12th Annual Running of the Elves. Have a holly jolly time in Central. All Elf Runners are encouraged to dress merry and bright. Participants registered by November 4 will receive an elf hat and a t-shirt. \n\n	There will be no sales permitted at the Elf Run.\n	There is no charge to be a pancake cook. Please be ready to prepare about 200 small pancakes with a propane griddle.\n	There is no fee to be an exhibitor. Exhibitors are required to provide refreshments\, giveaways worth at least $1\, or a family-friendly activity. \n\n\nThe Annual Central Chamber Pancake Cook-Off kicks off Shop Small Business Central Christmas Event!\n\nAt the finish line of the Running of the Elves 5k\, celebrate your win and celebrate central business with the cheeriest cookoff of the year.
X-ALT-DESC;FMTTYPE=text/html:<span style="font-size:20px\;"><span style="color:#B22222\;"><strong>Register to Run HERE:</strong></span><br />\n<strong><a href="https://runsignup.com/Race/LA/Central/ElfRun5K"><span style="color:#006400\;">https://runsignup.com/Race/LA/Central/ElfRun5</span></a>k</strong></span><br />\n<br />\n<strong style="color: rgb(178\, 34\, 34)\; font-size: 18px\;">T-Shirt Sponsors\, Vendors\, and Pancake Cooks may click the &quot\;Register&quot\; button on the right.</strong><br />\n<br />\n<span style="color: rgb(178\, 34\, 34)\; font-size: 16px\;">Participate in the 12th Annual Running of the Elves.&nbsp\;</span><span background-color:="" font-size:="" segoe="" style="color: rgb(178\, 34\, 34)\; font-size: 16px\;" ui="">Have a holly jolly time in Central. All Elf Runners are encouraged to dress merry and bright.</span><span style="color: rgb(178\, 34\, 34)\; font-size: 16px\;">&nbsp\;Participants registered by November 4 will receive an elf hat and a t-shirt.&nbsp\;</span>\n<ul>\n	<li><span style="color: rgb(178\, 34\, 34)\; font-size: 16px\;">There will be no sales permitted at the Elf Run.</span></li>\n	<li><span style="color: rgb(178\, 34\, 34)\; font-size: 16px\;">There is no charge to be a pancake cook. Please be ready to prepare about 200 small pancakes with a propane griddle.</span></li>\n	<li><span style="color: rgb(178\, 34\, 34)\; font-size: 16px\;">There is no fee to be an exhibitor. Exhibitors are required to provide refreshments\, giveaways worth at least $1\, or a family-friendly activity.&nbsp\;</span></li>\n</ul>\n\n<div background-color:="" class="kvgmc6g5 cxmmr5t8 oygrvhab hcukyx3x c1et5uql" color:="" font-size:="" segoe="" style="overflow-wrap: break-word\; margin: 0px\;" ui=""><span style="color: rgb(0\, 100\, 0)\;"><span style="font-family: arial\;"><span style="font-size: 16px\;">The Annual Central Chamber Pancake Cook-Off kicks off Shop Small Business Central Christmas Event!</span></span></span></div>\n\n<div background-color:="" class="o9v6fnle cxmmr5t8 oygrvhab hcukyx3x c1et5uql" color:="" font-size:="" segoe="" style="overflow-wrap: break-word\; margin: 0.5em 0px 0px\;" ui=""><span style="color: rgb(0\, 100\, 0)\;"><span style="font-family: arial\;"><span style="font-size: 16px\;">At the finish line of the Running of the Elves 5k\, celebrate your win and celebrate central business with the cheeriest cookoff of the year.</span></span></span></div>\n\n<div>&nbsp\;</div>\n
LOCATION:Wildcat Stadium
UID:e.1367.3203
SEQUENCE:3
DTSTAMP:20260421T003143Z
URL:https://business.cityofcentralchamber.com/events/details/12th-annual-running-of-the-elves-5k-3203
END:VEVENT

END:VCALENDAR
